BEGIN:VCALENDAR
VERSION:2.0
PRODID:Events Booking
BEGIN:VEVENT
UID:69eb717c03838
SUMMARY:4 - Course Dinner
DESCRIPTION:
DTSTART:20230519T150000Z
DTEND:20230519T190000Z
DTSTAMP:20260424T133452Z
ORGANIZER;CN=InTavola:MAILTO:postmaster@intavola.org
END:VEVENT
END:VCALENDAR