BEGIN:VCALENDAR
VERSION:2.0
PRODID:Events Booking
BEGIN:VEVENT
UID:69ea300a5d3b9
SUMMARY:4 Course Dinner
DESCRIPTION:
DTSTART:20250221T160000Z
DTEND:20250221T200000Z
DTSTAMP:20241014T101600Z
ORGANIZER;CN=InTavola:MAILTO:postmaster@intavola.org
END:VEVENT
END:VCALENDAR