BEGIN:VCALENDAR
VERSION:2.0
PRODID:Events Booking
BEGIN:VEVENT
UID:69eb833de1069
SUMMARY:Florentine Dinner
DESCRIPTION:
DTSTART:20250520T163000Z
DTEND:20250520T190000Z
DTSTAMP:20241014T102352Z
ORGANIZER;CN=InTavola:MAILTO:postmaster@intavola.org
END:VEVENT
END:VCALENDAR