BEGIN:VCALENDAR
VERSION:2.0
PRODID:Events Booking
BEGIN:VEVENT
UID:69e5b65f2b485
SUMMARY:Hand-made Pasta
DESCRIPTION:
DTSTART:20230429T093000Z
DTEND:20230429T123000Z
DTSTAMP:20260420T051511Z
ORGANIZER;CN=InTavola:MAILTO:postmaster@intavola.org
END:VEVENT
END:VCALENDAR