BEGIN:VCALENDAR
VERSION:2.0
PRODID:Events Booking
BEGIN:VEVENT
UID:69eca4e391bb7
SUMMARY:Handmade Pasta
DESCRIPTION:
DTSTART:20240529T150000Z
DTEND:20240529T180000Z
DTSTAMP:20231110T134229Z
ORGANIZER;CN=InTavola:MAILTO:postmaster@intavola.org
END:VEVENT
END:VCALENDAR