BEGIN:VCALENDAR
VERSION:2.0
PRODID:Events Booking
BEGIN:VEVENT
UID:69ebb7ab31b7e
SUMMARY:Handmade Pasta
DESCRIPTION:
DTSTART:20240706T090000Z
DTEND:20240706T120000Z
DTSTAMP:20231110T134704Z
ORGANIZER;CN=InTavola:MAILTO:postmaster@intavola.org
END:VEVENT
END:VCALENDAR