BEGIN:VCALENDAR
VERSION:2.0
PRODID:Events Booking
BEGIN:VEVENT
UID:69ed54f74b02a
SUMMARY:Pizza & Gelato
DESCRIPTION:
DTSTART:20241015T143000Z
DTEND:20241015T173000Z
DTSTAMP:20231110T140758Z
ORGANIZER;CN=InTavola:MAILTO:postmaster@intavola.org
END:VEVENT
END:VCALENDAR