BEGIN:VCALENDAR
VERSION:2.0
PRODID:Events Booking
BEGIN:VEVENT
UID:69e7317780ca6
SUMMARY:Gourmet Cena
DESCRIPTION:
DTSTART:20250821T140000Z
DTEND:20250821T183000Z
DTSTAMP:20241014T103815Z
ORGANIZER;CN=InTavola:MAILTO:postmaster@intavola.org
END:VEVENT
END:VCALENDAR