BEGIN:VCALENDAR
VERSION:2.0
PRODID:Events Booking
BEGIN:VEVENT
UID:69e5ab18bcfab
SUMMARY:Pasta Fatta a Mano
DESCRIPTION:
DTSTART:20260420T090000Z
DTEND:20260420T123000Z
DTSTAMP:20251023T095248Z
ORGANIZER;CN=InTavola:MAILTO:postmaster@intavola.org
END:VEVENT
END:VCALENDAR