BEGIN:VCALENDAR
VERSION:2.0
PRODID:Events Booking
BEGIN:VEVENT
UID:69e5aa85acdd1
SUMMARY:Pizza e Gelato
DESCRIPTION:
DTSTART:20260421T140000Z
DTEND:20260421T173000Z
DTSTAMP:20251023T102931Z
ORGANIZER;CN=InTavola:MAILTO:postmaster@intavola.org
END:VEVENT
END:VCALENDAR