BEGIN:VCALENDAR
VERSION:2.0
PRODID:Events Booking
BEGIN:VEVENT
UID:69ea45061d25c
SUMMARY:Menù Completo 
DESCRIPTION:
DTSTART:20250221T160000Z
DTEND:20250221T200000Z
DTSTAMP:20241014T101600Z
ORGANIZER;CN=InTavola:MAILTO:postmaster@intavola.org
END:VEVENT
END:VCALENDAR