BEGIN:VCALENDAR
VERSION:2.0
PRODID:Events Booking
BEGIN:VEVENT
UID:69e7308544d9d
SUMMARY:Menù Completo 
DESCRIPTION:
DTSTART:20250728T150000Z
DTEND:20250728T190000Z
DTSTAMP:20241014T101600Z
ORGANIZER;CN=InTavola:MAILTO:postmaster@intavola.org
END:VEVENT
END:VCALENDAR