BEGIN:VCALENDAR
VERSION:2.0
PRODID:Events Booking
BEGIN:VEVENT
UID:69e59d0a210a8
SUMMARY:Pasta Fatta a Mano
DESCRIPTION:
DTSTART:20230429T093000Z
DTEND:20230429T123000Z
DTSTAMP:20260420T032706Z
ORGANIZER;CN=InTavola:MAILTO:postmaster@intavola.org
END:VEVENT
END:VCALENDAR