BEGIN:VCALENDAR
VERSION:2.0
PRODID:Events Booking
BEGIN:VEVENT
UID:69e4ddbc210d7
SUMMARY:Pasta Fatta a Mano
DESCRIPTION:
DTSTART:20260318T163000Z
DTEND:20260318T200000Z
DTSTAMP:20251023T094705Z
ORGANIZER;CN=InTavola:MAILTO:postmaster@intavola.org
END:VEVENT
END:VCALENDAR